BEGIN:VCALENDAR
VERSION:2.0
PRODID:-//Tukios.com/
BEGIN:VEVENT
UID:1841d6a6-f6f1-4f55-8e55-603529ad272f@www.moloneyfh.com
DTSTAMP:20260420T230048Z
DTSTART:20260422T180000Z
DTEND:20260422T200000Z
SUMMARY:Visitation
DESCRIPTION:
URL:https://www.moloneyfh.com/obituaries/adrianne-mistretta
LOCATION: 203 Main St  Center Moriches NY 11934
GEO:40.8001579;-72.7869673
END:VEVENT
END:VCALENDAR