BEGIN:VCALENDAR
VERSION:2.0
PRODID:-//Tukios.com/
BEGIN:VEVENT
UID:47170cc1-750d-4871-aca6-fa4d1ca8e010@www.moloneyfh.com
DTSTAMP:20260420T230012Z
DTSTART:20260423T000000Z
DTEND:20260423T003000Z
SUMMARY:Prayer Service
DESCRIPTION:
URL:https://www.moloneyfh.com/obituaries/adrianne-mistretta
LOCATION: 203 Main St  Center Moriches NY 11934
GEO:40.8001579;-72.7869673
END:VEVENT
END:VCALENDAR