BEGIN:VCALENDAR
VERSION:2.0
PRODID:-//Tukios.com/
BEGIN:VEVENT
UID:59eb7522-b701-4feb-a823-cacc7037b2ce@www.moloneyfh.com
DTSTAMP:20260420T230544Z
DTSTART:20260423T140000Z
DTEND:20260423T141500Z
SUMMARY:Funeral Service
DESCRIPTION:
URL:https://www.moloneyfh.com/obituaries/adrianne-mistretta
LOCATION: 203 Main St  Center Moriches NY 11934
GEO:40.8001579;-72.7869673
END:VEVENT
END:VCALENDAR