BEGIN:VCALENDAR
VERSION:2.0
PRODID:-//Tukios.com/
BEGIN:VEVENT
UID:103af332-f40e-463f-b261-1a1a54d03685@www.moloneyfh.com
DTSTAMP:20260424T001627Z
DTSTART:20260427T140000Z
DTEND:20260427T150000Z
SUMMARY:Funeral Mass
DESCRIPTION:
URL:https://www.moloneyfh.com/obituaries/andrew-melfi-2026
LOCATION: 1140 Locust Avenue  Bohemia NY 11716
GEO:40.7697271;-73.1158472
END:VEVENT
END:VCALENDAR