BEGIN:VCALENDAR
VERSION:2.0
PRODID:-//Tukios.com/
BEGIN:VEVENT
UID:888454b9-56b4-470a-ba36-7c9beba8a66e@www.moloneyfh.com
DTSTAMP:20260424T001012Z
DTSTART:20260427
SUMMARY:Interment
DESCRIPTION:
URL:https://www.moloneyfh.com/obituaries/andrew-melfi-2026
LOCATION: 2015 Wellwood Avenue  Farmingdale NY 11735
GEO:40.7359223;-73.4019302
END:VEVENT
END:VCALENDAR