BEGIN:VCALENDAR
VERSION:2.0
PRODID:-//Tukios.com/
BEGIN:VEVENT
UID:674dbb97-7ced-4efc-b79b-aadb59b64928@www.moloneyfh.com
DTSTAMP:20260424T222415Z
DTSTART:20260427T200000Z
DTEND:20260428T000000Z
SUMMARY:Visitation
DESCRIPTION:
URL:https://www.moloneyfh.com/obituaries/angelo-fraccalvieri
LOCATION: 523 NY-112  Port Jefferson Station NY 11776
GEO:40.9109223;-73.0297683
END:VEVENT
END:VCALENDAR