BEGIN:VCALENDAR
VERSION:2.0
PRODID:-//Tukios.com/
BEGIN:VEVENT
UID:7872e117-e09a-4c4b-a3cd-f530a55f9240@www.moloneyfh.com
DTSTAMP:20260424T222023Z
DTSTART:20260428T144500Z
DTEND:20260428T154500Z
SUMMARY:Funeral Mass
DESCRIPTION:
URL:https://www.moloneyfh.com/obituaries/angelo-fraccalvieri
LOCATION: 429 NY - 25A  Setauket NY 11733
GEO:40.9358935;-73.1114276
END:VEVENT
END:VCALENDAR