BEGIN:VCALENDAR
VERSION:2.0
PRODID:-//Tukios.com/
BEGIN:VEVENT
UID:197accbb-d6f3-4351-8101-c4287eab5852@www.moloneyfh.com
DTSTAMP:20260424T222024Z
DTSTART:20260428T154500Z
DTEND:20260428T164500Z
SUMMARY:Burial
DESCRIPTION:
URL:https://www.moloneyfh.com/obituaries/angelo-fraccalvieri
LOCATION: 490 N. Country Road  St. James NY 11780
GEO:40.8827473;-73.1635409
END:VEVENT
END:VCALENDAR