BEGIN:VCALENDAR
VERSION:2.0
PRODID:-//Tukios.com/
BEGIN:VEVENT
UID:67cf8bba-c9f0-4114-984d-084ea79f7ba1@www.moloneyfh.com
DTSTAMP:20260422T001057Z
DTSTART:20260423T190000Z
DTEND:20260424T000000Z
SUMMARY:Visitation
DESCRIPTION:
URL:https://www.moloneyfh.com/obituaries/ann-edgeworth
LOCATION: 840 Wheeler Rd  Hauppauge NY 11788
GEO:40.8240245;-73.2069235
END:VEVENT
END:VCALENDAR