BEGIN:VCALENDAR
VERSION:2.0
PRODID:-//Tukios.com/
BEGIN:VEVENT
UID:e01ee16b-eefb-4c6a-9b3b-37712108be0e@www.moloneyfh.com
DTSTAMP:20260422T001313Z
DTSTART:20260424
SUMMARY:Interment
DESCRIPTION:
URL:https://www.moloneyfh.com/obituaries/ann-edgeworth
LOCATION: 210 Princeton Blvd  Wading River NY 11792
GEO:40.9243528;-72.8170011
END:VEVENT
END:VCALENDAR