BEGIN:VCALENDAR
VERSION:2.0
PRODID:-//Tukios.com/
BEGIN:VEVENT
UID:067747ca-7d17-4b4c-946f-52d743bcaa3d@www.moloneyfh.com
DTSTAMP:20260421T083859Z
DTSTART:20260302T200000Z
DTEND:20260302T210000Z
SUMMARY:Prayer Service
DESCRIPTION:
URL:https://www.moloneyfh.com/obituaries/barbara-oshaughnessy
LOCATION: 825 Main St  Holbrook NY 11741
GEO:40.8045812;-73.0700094
END:VEVENT
END:VCALENDAR