BEGIN:VCALENDAR
VERSION:2.0
PRODID:-//Tukios.com/
BEGIN:VEVENT
UID:628f6b61-2a63-418c-ba0a-acc254e815b0@www.moloneyfh.com
DTSTAMP:20260419T192506Z
DTSTART:20260425
SUMMARY:Cremation
DESCRIPTION:
URL:https://www.moloneyfh.com/obituaries/bimla-nagpal
LOCATION: 132 Ronkonkoma Avenue  Lake Ronkonkoma NY 11779
GEO:40.8256393;-73.1116778
END:VEVENT
END:VCALENDAR