BEGIN:VCALENDAR
VERSION:2.0
PRODID:-//Tukios.com/
BEGIN:VEVENT
UID:45f3cab3-ec4c-4535-9e5d-a8457b72cf16@www.moloneyfh.com
DTSTAMP:20260421T085014Z
DTSTART:20260210T160000Z
DTEND:20260210T170000Z
SUMMARY:Interment
DESCRIPTION:
URL:https://www.moloneyfh.com/obituaries/deborah-archer
LOCATION: 2015 Wellwood Avenue  Farmingdale NY 11735
GEO:40.7359223;-73.4019302
END:VEVENT
END:VCALENDAR