BEGIN:VCALENDAR
VERSION:2.0
PRODID:-//Tukios.com/
BEGIN:VEVENT
UID:5ff6aa35-cf29-4803-8717-d93cc83bd9c2@www.moloneyfh.com
DTSTAMP:20260421T083011Z
DTSTART:20260210T140000Z
DTEND:20260210T150000Z
SUMMARY:Prayer Service
DESCRIPTION:
URL:https://www.moloneyfh.com/obituaries/deborah-archer
LOCATION: 840 Wheeler Rd  Hauppauge NY 11788
GEO:40.8240245;-73.2069235
END:VEVENT
END:VCALENDAR