BEGIN:VCALENDAR
VERSION:2.0
PRODID:-//Tukios.com/
BEGIN:VEVENT
UID:ef57f8d6-dc12-4ec1-865b-3a69bec25aae@www.moloneyfh.com
DTSTAMP:20260419T194348Z
DTSTART:20260420T153000Z
DTEND:20260420T173000Z
SUMMARY:Visitation
DESCRIPTION:
URL:https://www.moloneyfh.com/obituaries/devinder-malhorta
LOCATION: 132 Ronkonkoma Ave  Ronkonkoma NY 11779
GEO:40.8256393;-73.1116778
END:VEVENT
END:VCALENDAR