BEGIN:VCALENDAR
VERSION:2.0
PRODID:-//Tukios.com/
BEGIN:VEVENT
UID:1e74ccee-4ca6-4e95-998f-e58f7e7e5d7f@www.moloneyfh.com
DTSTAMP:20260419T194516Z
DTSTART:20260420T173000Z
DTEND:20260420T174500Z
SUMMARY:Committal Prayers
DESCRIPTION:
URL:https://www.moloneyfh.com/obituaries/devinder-malhorta
LOCATION: 132 Ronkonkoma Avenue  Lake Ronkonkoma NY 11779
GEO:40.8256393;-73.1116778
END:VEVENT
END:VCALENDAR