BEGIN:VCALENDAR
VERSION:2.0
PRODID:-//Tukios.com/
BEGIN:VEVENT
UID:f7f2dcd9-77f3-4434-92de-57b0d8e9836c@www.moloneyfh.com
DTSTAMP:20260424T214840Z
DTSTART:20260426T200000Z
DTEND:20260426T210000Z
SUMMARY:Prayer Service
DESCRIPTION:
URL:https://www.moloneyfh.com/obituaries/francesca-lagnese
LOCATION: 132 Ronkonkoma Ave  Ronkonkoma NY 11779
GEO:40.8256393;-73.1116778
END:VEVENT
END:VCALENDAR