BEGIN:VCALENDAR
VERSION:2.0
PRODID:-//Tukios.com/
BEGIN:VEVENT
UID:a38dd4ea-8b0b-44b8-8968-7163aa42962e@www.moloneyfh.com
DTSTAMP:20260423T001737Z
DTSTART:20260427T140000Z
DTEND:20260427T150000Z
SUMMARY:Prayer Service
DESCRIPTION:
URL:https://www.moloneyfh.com/obituaries/james-stucchio
LOCATION: 132 Ronkonkoma Ave  Ronkonkoma NY 11779
GEO:40.8256393;-73.1116778
END:VEVENT
END:VCALENDAR