BEGIN:VCALENDAR
VERSION:2.0
PRODID:-//Tukios.com/
BEGIN:VEVENT
UID:bc772505-b997-4cc1-91ab-856d99228bed@www.moloneyfh.com
DTSTAMP:20260423T001737Z
DTSTART:20260427T150000Z
DTEND:20260427T160000Z
SUMMARY:Burial
DESCRIPTION:
URL:https://www.moloneyfh.com/obituaries/james-stucchio
LOCATION: 671 Hawkins Avenue  Ronkonkoma NY 11779
GEO:40.8324151;-73.108434
END:VEVENT
END:VCALENDAR