BEGIN:VCALENDAR
VERSION:2.0
PRODID:-//Tukios.com/
BEGIN:VEVENT
UID:e7121dd2-20d3-451d-bee3-7249a900d15c@www.moloneyfh.com
DTSTAMP:20260419T160414Z
DTSTART:20260421T180000Z
DTEND:20260421T200000Z
SUMMARY:Visitation
DESCRIPTION:
URL:https://www.moloneyfh.com/obituaries/joanne-golini
LOCATION: 132 Ronkonkoma Ave  Ronkonkoma NY 11779
GEO:40.8256393;-73.1116778
END:VEVENT
END:VCALENDAR