BEGIN:VCALENDAR
VERSION:2.0
PRODID:-//Tukios.com/
BEGIN:VEVENT
UID:3715bf28-e47c-486e-aaee-f1b926790b58@www.moloneyfh.com
DTSTAMP:20260419T160414Z
DTSTART:20260421T230000Z
DTEND:20260422T010000Z
SUMMARY:Visitation
DESCRIPTION:
URL:https://www.moloneyfh.com/obituaries/joanne-golini
LOCATION: 132 Ronkonkoma Ave  Ronkonkoma NY 11779
GEO:40.8256393;-73.1116778
END:VEVENT
END:VCALENDAR