BEGIN:VCALENDAR
VERSION:2.0
PRODID:-//Tukios.com/
BEGIN:VEVENT
UID:a5ba73f5-4bab-43ea-a0de-d49509401f41@www.moloneyfh.com
DTSTAMP:20260419T160430Z
DTSTART:20260422
SUMMARY:Burial
DESCRIPTION:
URL:https://www.moloneyfh.com/obituaries/joanne-golini
LOCATION: 7202 Astoria Boulevard South   NY 11370
GEO:40.7664139;-73.8968966
END:VEVENT
END:VCALENDAR