BEGIN:VCALENDAR
VERSION:2.0
PRODID:-//Tukios.com/
BEGIN:VEVENT
UID:0d0fb03a-7d58-42fa-934d-cbd8c7d4882a@www.moloneyfh.com
DTSTAMP:20260421T212247Z
DTSTART:20260502T160000Z
DTEND:20260502T200000Z
SUMMARY:Memorial Gathering
DESCRIPTION:
URL:https://www.moloneyfh.com/obituaries/john-lyons
LOCATION: 523 NY-112  Port Jefferson Station NY 11776
GEO:40.9109223;-73.0297683
END:VEVENT
END:VCALENDAR