BEGIN:VCALENDAR
VERSION:2.0
PRODID:-//Tukios.com/
BEGIN:VEVENT
UID:2e5540de-6504-4658-b2df-ff08df24e944@www.moloneyfh.com
DTSTAMP:20260421T212440Z
DTSTART:20260502T190000Z
DTEND:20260502T200000Z
SUMMARY:Memorial Service
DESCRIPTION:
URL:https://www.moloneyfh.com/obituaries/john-lyons
LOCATION: 523 NY-112  Port Jefferson Station NY 11776
GEO:40.9109223;-73.0297683
END:VEVENT
END:VCALENDAR