BEGIN:VCALENDAR
VERSION:2.0
PRODID:-//Tukios.com/
BEGIN:VEVENT
UID:b76105ff-0ef8-4598-9822-19b1fa5ea90c@www.moloneyfh.com
DTSTAMP:20260420T224525Z
DTSTART:20260422T183000Z
DTEND:20260422T203000Z
SUMMARY:Visitation
DESCRIPTION:
URL:https://www.moloneyfh.com/obituaries/joseph-kriklava-jr
LOCATION: 840 Wheeler Rd  Hauppauge NY 11788
GEO:40.8240245;-73.2069235
END:VEVENT
END:VCALENDAR