BEGIN:VCALENDAR
VERSION:2.0
PRODID:-//Tukios.com/
BEGIN:VEVENT
UID:6049daf5-f00f-466e-becc-f307d34d3bdf@www.moloneyfh.com
DTSTAMP:20260420T224514Z
DTSTART:20260422T231500Z
DTEND:20260423T001500Z
SUMMARY:Prayer Service
DESCRIPTION:
URL:https://www.moloneyfh.com/obituaries/joseph-kriklava-jr
LOCATION: 840 Wheeler Rd  Hauppauge NY 11788
GEO:40.8240245;-73.2069235
END:VEVENT
END:VCALENDAR