BEGIN:VCALENDAR
VERSION:2.0
PRODID:-//Tukios.com/
BEGIN:VEVENT
UID:08b33122-0b70-40d9-b948-53f726b802cc@www.moloneyfh.com
DTSTAMP:20260420T224515Z
DTSTART:20260423T134500Z
DTEND:20260423T144500Z
SUMMARY:Funeral Mass
DESCRIPTION:
URL:https://www.moloneyfh.com/obituaries/joseph-kriklava-jr
LOCATION: 115 Kings Highway  Hauppauge NY 11788
GEO:40.8138468;-73.2241933
END:VEVENT
END:VCALENDAR