BEGIN:VCALENDAR
VERSION:2.0
PRODID:-//Tukios.com/
BEGIN:VEVENT
UID:b604a0ce-6d5c-45de-a223-0b06f1fc0d5f@www.moloneyfh.com
DTSTAMP:20260420T224921Z
DTSTART:20260423
SUMMARY:Interment
DESCRIPTION:
URL:https://www.moloneyfh.com/obituaries/joseph-kriklava-jr
LOCATION: 210 Princeton Blvd  Wading River NY 11792
GEO:40.9243528;-72.8170011
END:VEVENT
END:VCALENDAR