BEGIN:VCALENDAR
VERSION:2.0
PRODID:-//Tukios.com/
BEGIN:VEVENT
UID:28bc7b5d-94e9-4095-80ff-44d2c0c6cd66@www.moloneyfh.com
DTSTAMP:20260422T030020Z
DTSTART:20260426T180000Z
DTEND:20260426T200000Z
SUMMARY:Visitation
DESCRIPTION:
URL:https://www.moloneyfh.com/obituaries/josephine-arroyo-rivera
LOCATION: 203 Main St  Center Moriches NY 11934
GEO:40.8001579;-72.7869673
END:VEVENT
END:VCALENDAR