BEGIN:VCALENDAR
VERSION:2.0
PRODID:-//Tukios.com/
BEGIN:VEVENT
UID:60e62724-99c6-4ad8-b916-f612c84d796f@www.moloneyfh.com
DTSTAMP:20260422T025859Z
DTSTART:20260426T230000Z
DTEND:20260427T010000Z
SUMMARY:Visitation
DESCRIPTION:
URL:https://www.moloneyfh.com/obituaries/josephine-arroyo-rivera
LOCATION: 203 Main St  Center Moriches NY 11934
GEO:40.8001579;-72.7869673
END:VEVENT
END:VCALENDAR