BEGIN:VCALENDAR
VERSION:2.0
PRODID:-//Tukios.com/
BEGIN:VEVENT
UID:86241c3f-b115-44f9-8acd-9a0517401929@www.moloneyfh.com
DTSTAMP:20260422T030019Z
DTSTART:20260427T144500Z
DTEND:20260427T154500Z
SUMMARY:Funeral Mass
DESCRIPTION:
URL:https://www.moloneyfh.com/obituaries/josephine-arroyo-rivera
LOCATION: 25 Ocean Avenue  Center Moriches NY 11934
GEO:40.7992078;-72.7867826
END:VEVENT
END:VCALENDAR