BEGIN:VCALENDAR
VERSION:2.0
PRODID:-//Tukios.com/
BEGIN:VEVENT
UID:7d3c1ad7-0f55-4c72-a038-00afac9fd84c@www.moloneyfh.com
DTSTAMP:20260421T085014Z
DTSTART:20260213T150000Z
DTEND:20260213T160000Z
SUMMARY:Funeral Mass
DESCRIPTION:
URL:https://www.moloneyfh.com/obituaries/lila-kuhns
LOCATION: 1140 Locust Avenue  Bohemia NY 11716
GEO:40.7697271;-73.1158472
END:VEVENT
END:VCALENDAR