BEGIN:VCALENDAR
VERSION:2.0
PRODID:-//Tukios.com/
BEGIN:VEVENT
UID:7d7bfe9c-b924-4fc2-963b-3cf9817d0763@www.moloneyfh.com
DTSTAMP:20260424T180248Z
DTSTART:20260426T140000Z
DTEND:20260426T160000Z
SUMMARY:Visitation
DESCRIPTION:
URL:https://www.moloneyfh.com/obituaries/mala-malani
LOCATION: 132 Ronkonkoma Ave  Ronkonkoma NY 11779
GEO:40.8256393;-73.1116778
END:VEVENT
END:VCALENDAR