BEGIN:VCALENDAR
VERSION:2.0
PRODID:-//Tukios.com/
BEGIN:VEVENT
UID:f5c7ba81-ba67-4cd8-bc30-d62c9d8fa98d@www.moloneyfh.com
DTSTAMP:20260424T180644Z
DTSTART:20260426
SUMMARY:Cremation
DESCRIPTION:
URL:https://www.moloneyfh.com/obituaries/mala-malani
LOCATION: 132 Ronkonkoma Avenue  Lake Ronkonkoma NY 11779
GEO:40.8256393;-73.1116778
END:VEVENT
END:VCALENDAR