BEGIN:VCALENDAR
VERSION:2.0
PRODID:-//Tukios.com/
BEGIN:VEVENT
UID:71cbef1f-008b-4e6f-8097-db37784ab241@www.moloneyfh.com
DTSTAMP:20260421T214653Z
DTSTART:20260424T123000Z
DTEND:20260424T143000Z
SUMMARY:Visitation
DESCRIPTION:
URL:https://www.moloneyfh.com/obituaries/marie-calandra
LOCATION: 825 Main St  Holbrook NY 11741
GEO:40.8045812;-73.0700094
END:VEVENT
END:VCALENDAR