BEGIN:VCALENDAR
VERSION:2.0
PRODID:-//Tukios.com/
BEGIN:VEVENT
UID:05ca25ae-e4fd-4bb0-b520-a9e9a3a2f6de@www.moloneyfh.com
DTSTAMP:20260421T214606Z
DTSTART:20260424T151500Z
DTEND:20260424T161500Z
SUMMARY:Mass
DESCRIPTION:
URL:https://www.moloneyfh.com/obituaries/marie-calandra
LOCATION: 27 Handsome Ave  Sayville NY 11782
GEO:40.732713;-73.0874262
END:VEVENT
END:VCALENDAR