BEGIN:VCALENDAR
VERSION:2.0
PRODID:-//Tukios.com/
BEGIN:VEVENT
UID:e540aa5c-41bd-4f34-8fd8-455cfa60415b@www.moloneyfh.com
DTSTAMP:20260420T185107Z
DTSTART:20260503T180000Z
DTEND:20260503T200000Z
SUMMARY:Visitation
DESCRIPTION:
URL:https://www.moloneyfh.com/obituaries/marie-casilli
LOCATION: 132 Ronkonkoma Ave  Ronkonkoma NY 11779
GEO:40.8256393;-73.1116778
END:VEVENT
END:VCALENDAR