BEGIN:VCALENDAR
VERSION:2.0
PRODID:-//Tukios.com/
BEGIN:VEVENT
UID:b1e721e7-0c27-4039-97e0-40e1db104410@www.moloneyfh.com
DTSTAMP:20260420T184421Z
DTSTART:20260503T230000Z
DTEND:20260504T010000Z
SUMMARY:Visitation
DESCRIPTION:
URL:https://www.moloneyfh.com/obituaries/marie-casilli
LOCATION: 132 Ronkonkoma Ave  Ronkonkoma NY 11779
GEO:40.8256393;-73.1116778
END:VEVENT
END:VCALENDAR