BEGIN:VCALENDAR
VERSION:2.0
PRODID:-//Tukios.com/
BEGIN:VEVENT
UID:3afd1e25-4516-4c82-b162-65f102c32240@www.moloneyfh.com
DTSTAMP:20260420T185224Z
DTSTART:20260504T150000Z
DTEND:20260504T160000Z
SUMMARY:Mass
DESCRIPTION:
URL:https://www.moloneyfh.com/obituaries/marie-casilli
LOCATION: 33 Crown Acres Road  Centereach NY 11720
GEO:40.8594669;-73.101812
END:VEVENT
END:VCALENDAR