BEGIN:VCALENDAR
VERSION:2.0
PRODID:-//Tukios.com/
BEGIN:VEVENT
UID:f822d247-4c54-49da-b8fd-ffea47fcdd89@www.moloneyfh.com
DTSTAMP:20260420T184548Z
DTSTART:20260504
SUMMARY:Burial
DESCRIPTION:
URL:https://www.moloneyfh.com/obituaries/marie-casilli
LOCATION: 111 Old Country Rd  Westbury NY 11590
GEO:40.7497103;-73.5832322
END:VEVENT
END:VCALENDAR