BEGIN:VCALENDAR
VERSION:2.0
PRODID:-//Tukios.com/
BEGIN:VEVENT
UID:060c05f4-bdb7-4bf3-bbb7-21c0abdc0ec8@www.moloneyfh.com
DTSTAMP:20260425T183807Z
DTSTART:20260429T144500Z
DTEND:20260429T154500Z
SUMMARY:Mass
DESCRIPTION:
URL:https://www.moloneyfh.com/obituaries/maryann-laforte
LOCATION: 20 Harrison Avenue  East Islip NY 11730
GEO:40.7289687;-73.1958047
END:VEVENT
END:VCALENDAR