BEGIN:VCALENDAR
VERSION:2.0
PRODID:-//Tukios.com/
BEGIN:VEVENT
UID:dab11278-2aa3-4651-9273-b0819aeee0f1@www.moloneyfh.com
DTSTAMP:20260425T183950Z
DTSTART:20260429
SUMMARY:Graveside Service
DESCRIPTION:
URL:https://www.moloneyfh.com/obituaries/maryann-laforte
LOCATION: 2015 Wellwood Avenue  Farmingdale NY 11735
GEO:40.7359223;-73.4019302
END:VEVENT
END:VCALENDAR