BEGIN:VCALENDAR
VERSION:2.0
PRODID:-//Tukios.com/
BEGIN:VEVENT
UID:edee717b-3abd-4b1d-999e-f21cbb8ca706@www.moloneyfh.com
DTSTAMP:20260425T183645Z
DTSTART:20260428T190000Z
DTEND:20260429T000000Z
SUMMARY:Visitation
DESCRIPTION:
URL:https://www.moloneyfh.com/obituaries/maryann-laforte
LOCATION: 840 Wheeler Rd  Hauppauge NY 11788
GEO:40.8240245;-73.2069235
END:VEVENT
END:VCALENDAR