BEGIN:VCALENDAR
VERSION:2.0
PRODID:-//Tukios.com/
BEGIN:VEVENT
UID:bb2975d9-5502-4871-9832-605980b87f0c@www.moloneyfh.com
DTSTAMP:20260424T000854Z
DTSTART:20260501T133000Z
DTEND:20260501T153000Z
SUMMARY:Visitation
DESCRIPTION:
URL:https://www.moloneyfh.com/obituaries/michael-murray
LOCATION: 130 Carleton Ave  Central Islip NY 11722
GEO:40.78245;-73.1999832
END:VEVENT
END:VCALENDAR