BEGIN:VCALENDAR
VERSION:2.0
PRODID:-//Tukios.com/
BEGIN:VEVENT
UID:9ec495cc-8dbe-4913-b05c-01e2f56bca0d@www.moloneyfh.com
DTSTAMP:20260424T000722Z
DTSTART:20260501T151500Z
DTEND:20260501T161500Z
SUMMARY:Funeral Service
DESCRIPTION:
URL:https://www.moloneyfh.com/obituaries/michael-murray
LOCATION: 130 Carleton Ave  Central Islip NY 11722
GEO:40.78245;-73.1999832
END:VEVENT
END:VCALENDAR