BEGIN:VCALENDAR
VERSION:2.0
PRODID:-//Tukios.com/
BEGIN:VEVENT
UID:98f67885-4a24-4482-b538-c825c9154a17@www.moloneyfh.com
DTSTAMP:20260424T000540Z
DTSTART:20260501
SUMMARY:Interment
DESCRIPTION:
URL:https://www.moloneyfh.com/obituaries/michael-murray
LOCATION: 115 Wheeler Road   Central Islip  NY 11722
GEO:40.801584;-73.207993
END:VEVENT
END:VCALENDAR