BEGIN:VCALENDAR
VERSION:2.0
PRODID:-//Tukios.com/
BEGIN:VEVENT
UID:8ecfe300-4001-4711-ad44-a6f445504c67@www.moloneyfh.com
DTSTAMP:20260421T011744Z
DTSTART:20260423T140000Z
DTEND:20260423T150000Z
SUMMARY:Mass
DESCRIPTION:
URL:https://www.moloneyfh.com/obituaries/michael-stamoolis
LOCATION: 430 Sheep Pasture Road  Port Jefferson NY 11777
GEO:40.9307889;-73.0724839
END:VEVENT
END:VCALENDAR