BEGIN:VCALENDAR
VERSION:2.0
PRODID:-//Tukios.com/
BEGIN:VEVENT
UID:6a37e014-5348-4014-bd04-c2c9e7f4913f@www.moloneyfh.com
DTSTAMP:20260421T011509Z
DTSTART:20260423
SUMMARY:Graveside Service
DESCRIPTION:
URL:https://www.moloneyfh.com/obituaries/michael-stamoolis
LOCATION: 671 Hawkins Avenue  Ronkonkoma NY 11779
GEO:40.8324151;-73.108434
END:VEVENT
END:VCALENDAR