BEGIN:VCALENDAR
VERSION:2.0
PRODID:-//Tukios.com/
BEGIN:VEVENT
UID:a426e7e9-7218-4ace-b7fc-323d78b4e965@www.moloneyfh.com
DTSTAMP:20260424T222023Z
DTSTART:20260426T143000Z
DTEND:20260426T223000Z
SUMMARY:Viewing
DESCRIPTION:
URL:https://www.moloneyfh.com/obituaries/monica-yanes-alfaro
LOCATION:Bay Shore Spanish Seventh-Day Adventist Church 9 Arizona Ave  
	Bay Shore NY 11706
GEO:40.7650308;-73.260321
END:VEVENT
END:VCALENDAR