BEGIN:VCALENDAR
VERSION:2.0
PRODID:-//Tukios.com/
BEGIN:VEVENT
UID:9f62a0a4-943f-4b5c-a0f1-97dcb8ab2f50@www.moloneyfh.com
DTSTAMP:20260424T222330Z
DTSTART:20260427T160000Z
DTEND:20260427T170000Z
SUMMARY:Burial
DESCRIPTION:
URL:https://www.moloneyfh.com/obituaries/monica-yanes-alfaro
LOCATION: 2015 Wellwood Avenue  Farmingdale NY 11735
GEO:40.7359223;-73.4019302
END:VEVENT
END:VCALENDAR